BEGIN:VCALENDAR
VERSION:2.0
PRODID:-//https://www.cimdata.com///NONSGML kigkonsult.se iCalcreator 2.10.15//
METHOD:PUBLISH
BEGIN:VEVENT
UID:20260421T065335EDT-09134eVslA@https://www.cimdata.com/
DTSTAMP:20260421T105335Z
DESCRIPTION:&nbsp\;\nThe Innovation &amp\; Growth Leadership Summit: Collab
 orating for Transformative Growth – Inside\, Outside and Across Organizati
 ons\, April 25-26\, 2016 in Chicago has been designed to focus specificall
 y on the challenges of senior R&amp\;D leadership.\nThis one-of-a-kind Sum
 mit will bring together executives from organizations such as BASF\, Cloro
 x\, WD40\, Kimberly-Clark\, GOJO\, Sun Products\, Mondelez\, International
  Flavors &amp\; Fragrances\, JM Smucker\, Midwest Specialty Products\, and
  more for candid discussion on topics such as identifying high growth oppo
 rtunities\, directing scarce resources\, collaboration beyond Open Innovat
 ion\, and the latest – and best – tools to get things done. Registration i
 s now open\, reserve your place!\nTopics include how to:\n\nsimplify compl
 exity\, increase agility and adaptability to ever-changing market needs.\n
 balance growth objectives with resource constraints – keep motivation high
 \, especially after restructuring.\nidentify and weed out inefficiencies\,
  redirect cost savings toward innovation and growth.\nexpand your ecosyste
 m.\nmake sense of the array of new technologies.\nimprove organizational e
 ffectiveness\; connect the dots between strategy\, processes\, people\, an
 d tools.\n\nRegister Now!\nTo receive a 20% discount off published prices 
 register here and enter CIMdata's VIP Code\, CIMdata16\, in priority code 
 field.\nMore Information
DTSTART:20160425T141900Z
DTEND:20160426T161900Z
LOCATION:Chicago\, IL ()
SUMMARY:Innovation & Growth Leadership Summit 2016
END:VEVENT
END:VCALENDAR
