BEGIN:VCALENDAR
VERSION:2.0
PRODID:-//https://www.cimdata.com///NONSGML kigkonsult.se iCalcreator 2.10.15//
METHOD:PUBLISH
BEGIN:VEVENT
UID:20260422T221214EDT-0177FTbt09@https://www.cimdata.com/
DTSTAMP:20260423T021214Z
DESCRIPTION:PLM Road Map &amp\; PDT North America 2023 | Paris\, France | 1
 5 &amp\; 16 November\nThe Digital Thread in a Heterogeneous\, Extended Ent
 erprise Reality A call for PLM Professionals to share their knowledge and 
 experience\n&nbsp\;\nWe are excited that PLM Road Map &amp\; PDT is sold o
 ut!\n \n&nbsp\;\n  &nbsp\;&nbsp\;&nbsp\;&nbsp\;&nbsp\;&nbsp\;&nbsp\;&nbsp\
 ;\n\nThe Digital Thread holds much promise and keeps many PLM Professional
 s busy defining\, planning\, and implementing it. While still visionary\, 
 business cases exist with benefits starting to surface. Full-scale impleme
 ntations are not yet common. However\, much technical work is going on. Al
 ongside the technical work\, companies are also investigating and investin
 g in how to deliver tangible benefits to the bottom line. In some cases\, 
 technology as an enabler will drive the implementation of Digital Threads\
 , yet in other cases\, new processes based on Digital Threads disrupt indu
 stries.\nImplementing a Digital Thread and its governance is daunting—pote
 ntially including redefining the business scope\, processes\, and skills. 
 Unless the processes and people are enabled to implement and govern a Digi
 tal Thread\, it will not happen.\nThe PLM Professional is key to implement
 ing a Digital Thread. Still\, it is a team effort involving many others\, 
 including enterprise architects\, process owners\, IT security\, supply ch
 ain\, engineering\, manufacturing\, customer support\, aftermarket\, and t
 hose at the CXO level.\nPLM Road Map &amp\; PDT 2023 will advance our unde
 rstanding of the Digital Thread. It will provide insights into where indus
 trial end-user companies are today and how they plan to benefit from the D
 igital Thread in the future. It will help us to understand what is availab
 le from the software provider and systems integrator communities. And it w
 ill provide an environment for you to share your knowledge and experiences
  and shorten the time for return on investment in the Digital Thread.\nBui
 lding on previous PLM Roadmap &amp\; PDT conferences\, our agenda will off
 er a mix of reports and case studies from industry experts\, covering the 
 people\, process\, and technology aspects of Digital Thread realization.\n
 Agenda topics will include the following:\n\nDigital Thread: Why Should We
  Care?\nHow OEMs and First-Tier Suppliers enable the Digital Thread in spi
 te of themselves\nThe Past Century Has Not Prepared Us For The Next Decade
 \nThe Digital Thread in Regulated Industries with Complex Products – Curre
 nt State and Future Trends\nEngineering Bill of Materials with Live Parts 
 List at GE Aerospace\nPeople\, Process\, and Technology: The Pillars of Di
 gital Transformation Success\nEnabling Marketing\, Engineering &amp\; Manu
 facturing Digital Thread thanks to a PIM / PLM integrated application\n\nD
 on't miss PLM Road Map &amp\; PDT EMEA 2023 on 15-16 November&nbsp\;if you
  are concerned with PLM and delivering increased business value on all lev
 els in and across your enterprise. Regardless of your industry\, join us i
 n Paris\, France for the opportunity to interact with PLM leaders and peer
 s\, learn about successes and trends\, and take the next step in your jour
 ney as a PLM professional.\nPlease mark your calendars and register early.
 \n\n\n&nbsp\;\n\n\n\nAgenda\nWhy Attend?\nWho Should Attend?\nLocation\nCo
 st\nSponsor Information\n\nReceive our Updates\n\n\n&nbsp\;
DTSTART:20231115T130000Z
DTEND:20231116T220000Z
LOCATION:The Renaissance Hotel\, Paris La Defense\, France ()
SUMMARY:PLM Road Map & PDT EMEA 2023
END:VEVENT
END:VCALENDAR
