BEGIN:VCALENDAR
VERSION:2.0
PRODID:-//https://www.cimdata.com///NONSGML kigkonsult.se iCalcreator 2.10.15//
METHOD:PUBLISH
BEGIN:VEVENT
UID:20260421T025521EDT-0872vRLvTw@https://www.cimdata.com/
DTSTAMP:20260421T065521Z
DESCRIPTION:CIMdata PLM Fundamentals for Solution Providers Short Course La
  Defense\, Paris France\n8-9 June\, 2026\n\nGet more information\nRegister
 \nPricing: Cost is calculated per student\nClasses priced in €&nbsp\;and c
 harged in US$\n\nFirst student sent by a specific company — €1\,840\nStude
 nts 2-5 — €1\,650 each (Call +1.734.668.9922 for group registrations)\nStu
 dents 6+ — €1\,325 each (Call +1.734.668.9922 for group registrations)\n
DTSTART:20260608T120000Z
DTEND:20260609T210000Z
LOCATION:Paris La Defense ()
SUMMARY:CIMdata PLM Fundamentals for Solution Providers Short Course - In p
 erson in Paris\, France
END:VEVENT
END:VCALENDAR
