BEGIN:VCALENDAR
VERSION:2.0
PRODID:-//https://www.cimdata.com///NONSGML kigkonsult.se iCalcreator 2.10.15//
METHOD:PUBLISH
BEGIN:VEVENT
UID:20260421T025451EDT-1916lRwcJa@https://www.cimdata.com/
DTSTAMP:20260421T065451Z
DESCRIPTION:Digital Transformation Master Class @ ACE Miami\, FL\n13 April\
 , 2026 (1:00-4:30 pm EST)\nRegister\nLearn More\nPricing:  Cost is calcula
 ted per student per company\n\nFirst student — US$495\nStudents 2-5 — US$4
 50 each (call +1 734.668.9922 for group registrations)\nStudents 6+ — US$3
 75 each (call +1 734.668.9922 for group registrations)\n\nThis Digital Tra
 nsformation Master Class leverages CIMdata’s internationally recognized 5-
 day PLM Certificate Program for Industrial Organizations and PLM Solution 
 Providers. This assessment-based class satisfies the main PLM education re
 quirements of enterprises of all sizes.&nbsp\;\nThe Digital Transformation
  Master Class consists of one 3.5-hour session with one individual assessm
 ent.\nSuccessful completion of the course and the assessment leads to a Ba
 sic Certificate of Digital Transformation Leadership and 0.3 CEUs.\nBenefi
 ts of CIMdata’s Classes\n\nCIMdata’s classes allow you to experience CIMda
 ta’s internationally recognized education programs in a way that easily fi
 ts into your schedule.\nAssessments of comprehension are completed after e
 ach module and offer participants tangible metrics of educational value.\n
 The course provides an independent learning opportunity.\n\nTarget Audienc
 e\n\nAras ACE attendees\nDigital Transformation Executive Champions and Sp
 onsors\nMid- and Upper-Level Business Managers\nFunctional Directors (e.g.
 \, IT\, engineering\, supply chain\, NPD\, etc.)\nBusiness Process Subject
  Matter Experts\nProject Leaders\n\nThe Digital Transformation Master Clas
 s is industry and solution-provider-independent.\nCourse Outline\n\nWhat i
 s Digital Transformation?\nWhere &amp\; How Does PLM Fit into a Digital Tr
 ansformation Initiative?\nKey Enabling Elements of a Digital Transformatio
 n\nAn Industrial Status Check: The State of Digital\n\nRegister
DTSTART:20260413T170000Z
DTEND:20260413T203000Z
LOCATION:Hilton Miami Downtown (1601 Biscayne Boulevard | Miami\, FL 33132 
 )
SUMMARY:CIMdata Digital Transformation Master Class at ACE 2026
END:VEVENT
END:VCALENDAR
