BEGIN:VCALENDAR
VERSION:2.0
PRODID:-//https://www.cimdata.com///NONSGML kigkonsult.se iCalcreator 2.10.15//
METHOD:PUBLISH
BEGIN:VEVENT
UID:20260421T025449EDT-9777KN2WNf@https://www.cimdata.com/
DTSTAMP:20260421T065449Z
DESCRIPTION:CIMdata PLM Certificate Program Virtual Live Classroom\n26-29 O
 ctober\, 2026 - 4 half days from 6:00 am to 10 eastern\n9-12 November\, 20
 26 - 4 half days from 6:00 am to 10 eastern\n\nGet&nbsp\;more information
 \nPricing:  Cost is calculated per student per company\n\n\nRegister for V
 irtual program\n5 Day Pricing:\n\nFirst student — US$3\,950\nStudents 2-5 
 — US$3\,550 each (call +1 734.668.9922 for group registrations)\nStudents 
 6+ —US$2\,950 each (call +1 734.668.9922 for group registrations)\n\n\n3 D
 ay Pricing: Call +1 734.668.9922 to register\n\nFirst student — US$2\,890
 \nStudents 2-5 — US$2\,525 each \nStudents 6+ — US$1\,950 each \n\n\nNote 
 for Teams: Looking to bring PLM education to your team? We can also delive
 r a Private PLM Certificate Program and Master Classes customized for your
  organization\, available either at your facility or via a private Virtual
  Live Classroom\; for more information\, contact CIMdata.\n\n\n\n
DTSTART:20261026T100000Z
DTEND:20261112T150000Z
LOCATION:Virtual-Live ()
SUMMARY:CIMdata PLM Certificate Program - Virtual Live Classroom (October/N
 ovember - Option 1)
END:VEVENT
END:VCALENDAR
