BEGIN:VCALENDAR
VERSION:2.0
PRODID:-//https://www.cimdata.com///NONSGML kigkonsult.se iCalcreator 2.10.15//
METHOD:PUBLISH
BEGIN:VEVENT
UID:20260421T025450EDT-2405Iuw7nV@https://www.cimdata.com/
DTSTAMP:20260421T065450Z
DESCRIPTION:CIMdata PLM Certificate Program Virtual Live Classroom\n26-29 O
 ctober\, 2026 - 4 half days from 12:00 to 16:00 eastern\n9-12 November\, 2
 026 - 4 half days from 12:00 to 16:00 eastern\n\nGet&nbsp\;more informatio
 n\nPricing:  Cost is calculated per student per company\nRegister for Virt
 ual program\n5 Day Pricing:\n\nFirst student — US$3\,950\nStudents 2-5 — U
 S$3\,550 each (call +1 734.668.9922 for group registrations)\nStudents 6+ 
 —US$2\,950 each (call +1 734.668.9922 for group registrations)\n\n\n3 Day 
 Pricing: Call +1 734.668.9922 to register\n\nFirst student — US$2\,890\nSt
 udents 2-5 — US$2\,525 each \nStudents 6+ — US$1\,950 each \n\nNote for Te
 ams: Looking to bring PLM education to your team? We can also deliver a Pr
 ivate PLM Certificate Program and Master Classes customized for your organ
 ization\, available either at your facility or via a private Virtual Live 
 Classroom\; for more information\, contact CIMdata.\n  
DTSTART:20261026T160000Z
DTEND:20261112T210000Z
LOCATION:Virtual-Live ()
SUMMARY:CIMdata PLM Certificate Program - Virtual Live Classroom (October/N
 ovember - Option 2)
END:VEVENT
END:VCALENDAR
