BEGIN:VCALENDAR
VERSION:2.0
PRODID:-//https://www.cimdata.com///NONSGML kigkonsult.se iCalcreator 2.10.15//
METHOD:PUBLISH
BEGIN:VEVENT
UID:20260421T030030EDT-29926muhRp@https://www.cimdata.com/
DTSTAMP:20260421T070030Z
DESCRIPTION:CIMdata PLM Certificate Program La Defense\, Paris\, France\n8-
 12 June\, 2026 - 5 Day\n8-10 June\, 2025 - 3 Day\n\nGet&nbsp\;more informa
 tion\nPricing:  Cost is calculated per student per company\nCertificate Pr
 ogram is priced in €&nbsp\;and charged in US$\n\nRegister for 5 day progra
 m\n5 Day Pricing:\n\nFirst student — €3\,950\nStudents 2-5 — €3\,550 each 
 (call +1 734.668.9922 for group registrations)\nStudents 6+ — €2\,950 each
  (call +1 734.668.9922 for group registrations)\n\n3 Day Pricing: Call +1 
 734.668.9922 to register\n\nFirst student — €2\,890\nStudents 2-5 — €2\,52
 5 each\nStudents 6+ — €1\,950 each \n\n\n\n\nNote for Teams: Looking to br
 ing PLM education to your team? We can also deliver a Private PLM Certific
 ate Program and Master Classes customized for your organization\, availabl
 e either at your facility or via a private Virtual Live Classroom\; for mo
 re information\, contact CIMdata.\n
DTSTART:20260608T160000Z
DTEND:20260612T170000Z
LOCATION:Paris La Defense ()
SUMMARY:CIMdata PLM Certificate Program - In person in Paris\, France
END:VEVENT
END:VCALENDAR
